BEGIN:VCALENDAR
VERSION:2.0
PRODID:-//Habitat Kreatív Központ - ECPv6.3.5//NONSGML v1.0//EN
CALSCALE:GREGORIAN
METHOD:PUBLISH
X-ORIGINAL-URL:https://kreativkozpont.habitat.hu
X-WR-CALDESC:Events for Habitat Kreatív Központ
REFRESH-INTERVAL;VALUE=DURATION:PT1H
X-Robots-Tag:noindex
X-PUBLISHED-TTL:PT1H
BEGIN:VTIMEZONE
TZID:Europe/Budapest
BEGIN:DAYLIGHT
TZOFFSETFROM:+0100
TZOFFSETTO:+0200
TZNAME:CEST
DTSTART:20240331T010000
END:DAYLIGHT
BEGIN:STANDARD
TZOFFSETFROM:+0200
TZOFFSETTO:+0100
TZNAME:CET
DTSTART:20241027T010000
END:STANDARD
END:VTIMEZONE
BEGIN:VEVENT
DTSTART;TZID=Europe/Budapest:20240117T100000
DTEND;TZID=Europe/Budapest:20240117T120000
DTSTAMP:20260426T015148
CREATED:20240105T105158Z
LAST-MODIFIED:20240108T151949Z
UID:1087-1705485600-1705492800@kreativkozpont.habitat.hu
SUMMARY:Egy szociális klímapolitika lehetőségei az energiaválság után
DESCRIPTION:Egy szociális klímapolitika lehetőségei az energiaválság után\nA 2023-as Lakhatási Jelentés harmadik fejezetének bemutatója\nA Habitat for Humanity Magyarország 2023-ban tizenkettedik alkalommal publikálta éves jelentését a magyarországi lakhatás helyzetéről. A harmadik fejezet bemutatóját 2024. január 17-én tartjuk a Habitat Kreatív Központban. A publikált fejezet\, valamint annak kivonata január 17-től elérhető lesz a Habitat honlapján. \nAz eseményen való részvétel ingyenes\, azonban regisztrációhoz kötött. Kérjük\, regisztrálj a lap alján található űrlapon! \nCsatlakozz Te is\, ha: \n\nelső kézből szeretnéd megkapni szakértőktől a legaktuálisabb információkat a magyarországi lakhatási helyzetről;\nszeretnéd tudni\, hogyan alakult az ország lakossági energiafogyasztása és az energiafogyasztással kapcsolatos szabályozások az elmúlt évben;\ntöbbet szeretnél tudni arról\, hogy a sérülékeny csoportokat hogyan érintik az aktuális változások;\nérdekel\, hogy mit gondolnak a szakértők a közeljövőben induló EU-s Szociális Klímaalapról\, és annak Magyarországot leginkább érintő hatásairól és lehetőségeiről;\nés főként\, ha kíváncsi vagy\, hogyan lehetne a nehéz szociális helyzetben élő emberek számára igazságosabbá tenni az energiapolitikát és milyen javaslataink vannak az ehhez kapcsolódó problémák kezelésére!\n\nProgram: \n\n09:30-10:00 – regisztráció\n10:00-10:10 – köszöntő // Szegfalvi Zsolt\, a Habitat ügyvezető igazgatója és Lukács György\, a Habitat szakpolitikai menedzsere\n10:10-10:40 – A Lakhatási jelentés harmadik fejezetének szerzői bemutatják a fejezet tartalmát // Feldmár Nóra\, a Habitat energiaszegénységi szakmai vezetője\, és Koritár Zsuzsanna\, a Habitat energiaszegénység-szakértője\n10:40-11:30 – Résztvevői kérdések és válaszok\n11:30-12:00 – Állófogadás\, networking\n\nAz esemény sajtónyilvános. \n			\n				\n				\n				\n				\n				A program ingyenes\, de szívesen fogadunk adományt a Habitat for Humanity Magyarországszámára. \n\n			\n				\n				\n				\n				\n				Regisztráció az eseményre\n\n\n                \n                        \n                             \n                        \n                        Név(Kötelező)\n                            \n                            \n                                                    \n                                                    Családi név\n                                                \n                            \n                            \n                                                    \n                                                    Utónév\n                                                \n                            \n                        E-mail-cím(Kötelező)\n                            \n                        Erre az eseményre regisztrálsz:\n			\n					\n					Budai Ökofilmklub #20 | 2040 – Egy reményteli jövő – még 50 szabad férőhely van.\n			This field is hidden when viewing the formevent_nameThis field is hidden when viewing the formevent_date\n                            \n                            YYYY dash MM dash DD\n                        \n                        This field is hidden when viewing the formevent_datetimeThis field is hidden when viewing the formis_payment_eventThis field is hidden when viewing the formSelected event ticketsKérjük\, válassz belépőjegyet!(Kötelező)Please fill out other fields. Hány fő részére regisztrálsz?(Kötelező)12345Fizetendő összeg\n					\n					\n						Ár:\n						0 Ft\n					\n					\n					\n				Számlázási adatokKinek a részére szeretnéd kérni a számlát?(Kötelező)\n			\n					\n					Magánszemély részére\n			\n			\n					\n					Cég\, szervezet részére\n			Számlázási név(Kötelező)\n                            \n                            \n                                                    \n                                                    Családi név\n                                                \n                            \n                            \n                                                    \n                                                    Utónév\n                                                \n                            \n                        Számlázási cégnév(Kötelező)Adószám(Kötelező)Számlázási cím(Kötelező)    \n                    \n                         \n                                        \n                                        Utca\, házszám\n                                    \n                                    \n                                    Település\n                                 \n                                    \n                                    Irányitószám\n                                \n                    \n                Megjegyzés\, nyilatkozatokMegjegyzésNyilatkozatok(Kötelező)\n								\n								Elfogadom a vásárlási feltételeket és az adatkezelési tájékoztatót\, valamint megadott adataim kezeléséhez hozzájárulok.\n							Nyilatkozatok(Kötelező)\n								\n								Elfogadom  az adatkezelési tájékoztatót\, valamint megadott adataim kezeléséhez hozzájárulok.\n							Hozzájárulsz ahhoz\, hogy megadott elérhetőségeiden tájékoztassunk a Habitat munkájáról?(Kötelező)\n			\n					\n					Igen\n			\n			\n					\n					Nem\n			NameEz a mező az érvényesítéshez van és üresen kell hagyni.
URL:https://kreativkozpont.habitat.hu/esemeny/egy-szocialis-klimapolitika-lehetosegei-az-energiavalsag-utan/
LOCATION:Habitat Kreatív Központ\, Margit körút 26\, Budapest\, 1027\, Hungary
ATTACH;FMTTYPE=image/jpeg:https://kreativkozpont.habitat.hu/wp-content/uploads/2024/01/aDSCN8221-scaled.jpg
END:VEVENT
BEGIN:VEVENT
DTSTART;TZID=Europe/Budapest:20240123T173000
DTEND;TZID=Europe/Budapest:20240123T193000
DTSTAMP:20260426T015148
CREATED:20240112T143007Z
LAST-MODIFIED:20240113T104006Z
UID:1100-1706031000-1706038200@kreativkozpont.habitat.hu
SUMMARY:Kétker Ökoklub | Vegyszermentes háztartás workshop
DESCRIPTION:Vegyszermentes háztartás workshop\nÉrdekel a környezetkímélő\, olcsó és vegyszermentes háztartás? Esetleg már vannak is gyakorlati tapasztalataid róla? \nNem mos a mosódió? Nem hozza ki a foltokat a marhaepe szappan? Tényleg mindentudó a szódabikarbóna? És az ecet meg a citrom? Mivel vegyük ki a foltokat és mitől lesz fehér a fehér ruha? Mi a helyzet a lefolyókkal? És a zsíros\, ráégett tűzhellyel\, serpenyőkkel? \nGyere el\, ha ehhez hasonló kérdések foglalkoztatnak\, ha szeretnél belevágni\, de akkor is\, ha csak még több ötletre vágysz\, vagy szívesen megosztanád saját tapasztalataidat. \nHa tudsz\, hozz magaddal: \n\n3-4 befőttes üveget\, illetve spricnis flakont\necetet\nszódabikarbónát\nillóolajat\ncitromsavat\ngyógyszertári alkoholt (vagy a legolcsóbb vodkát)\n\nVinni is fogsz: \n\nházi öblítőt\nWC illatosítót\náltalános tisztítószert\n\nA foglalkozáson a Zanna Műhely megálmodója\, Nagy-Balássy Anna segít minket.  \nA részvétel ingyenes\, de kérünk\, hogy regisztrálj itt\, hogy lássuk\, hány ember részvételére készüljünk. \n			\n				\n				\n				\n				\n				A program ingyenes\, de szívesen fogadunk adományt a Habitat for Humanity Magyarországszámára. \n\n			\n				\n				\n				\n				\n				Regisztráció az eseményre\n\n                \n                        \n                             \n                        \n                        Név(Kötelező)\n                            \n                            \n                                                    \n                                                    Családi név\n                                                \n                            \n                            \n                                                    \n                                                    Utónév\n                                                \n                            \n                        E-mail-cím(Kötelező)\n                            \n                        Erre az eseményre regisztrálsz:\n			\n					\n					Budai Ökofilmklub #20 | 2040 – Egy reményteli jövő – még 50 szabad férőhely van.\n			This field is hidden when viewing the formevent_nameThis field is hidden when viewing the formevent_date\n                            \n                            YYYY dash MM dash DD\n                        \n                        This field is hidden when viewing the formevent_datetimeThis field is hidden when viewing the formis_payment_eventThis field is hidden when viewing the formSelected event ticketsKérjük\, válassz belépőjegyet!(Kötelező)Please fill out other fields. Hány fő részére regisztrálsz?(Kötelező)12345Fizetendő összeg\n					\n					\n						Ár:\n						0 Ft\n					\n					\n					\n				Számlázási adatokKinek a részére szeretnéd kérni a számlát?(Kötelező)\n			\n					\n					Magánszemély részére\n			\n			\n					\n					Cég\, szervezet részére\n			Számlázási név(Kötelező)\n                            \n                            \n                                                    \n                                                    Családi név\n                                                \n                            \n                            \n                                                    \n                                                    Utónév\n                                                \n                            \n                        Számlázási cégnév(Kötelező)Adószám(Kötelező)Számlázási cím(Kötelező)    \n                    \n                         \n                                        \n                                        Utca\, házszám\n                                    \n                                    \n                                    Település\n                                 \n                                    \n                                    Irányitószám\n                                \n                    \n                Megjegyzés\, nyilatkozatokMegjegyzésNyilatkozatok(Kötelező)\n								\n								Elfogadom a vásárlási feltételeket és az adatkezelési tájékoztatót\, valamint megadott adataim kezeléséhez hozzájárulok.\n							Nyilatkozatok(Kötelező)\n								\n								Elfogadom  az adatkezelési tájékoztatót\, valamint megadott adataim kezeléséhez hozzájárulok.\n							Hozzájárulsz ahhoz\, hogy megadott elérhetőségeiden tájékoztassunk a Habitat munkájáról?(Kötelező)\n			\n					\n					Igen\n			\n			\n					\n					Nem\n			PhoneEz a mező az érvényesítéshez van és üresen kell hagyni.
URL:https://kreativkozpont.habitat.hu/esemeny/ketker-okoklub-vegyszermentes-haztartas-workshop/
LOCATION:Habitat Kreatív Központ\, Margit körút 26\, Budapest\, 1027\, Hungary
ATTACH;FMTTYPE=image/jpeg:https://kreativkozpont.habitat.hu/wp-content/uploads/2024/01/cleaning-concept-with-eco-friend-scaled.jpg
END:VEVENT
END:VCALENDAR